BEGIN:VCALENDAR
VERSION:2.0
PRODID:-//PECT - ECPv5.3.2//NONSGML v1.0//EN
CALSCALE:GREGORIAN
METHOD:PUBLISH
X-WR-CALNAME:PECT
X-ORIGINAL-URL:https://www.pect.org.uk
X-WR-CALDESC:Events for PECT
BEGIN:VTIMEZONE
TZID:UTC
BEGIN:STANDARD
TZOFFSETFROM:+0000
TZOFFSETTO:+0000
TZNAME:UTC
DTSTART:20170101T000000
END:STANDARD
END:VTIMEZONE
BEGIN:VEVENT
DTSTART;TZID=UTC:20171125T103000
DTEND;TZID=UTC:20171125T160000
DTSTAMP:20260425T122115
CREATED:20171123T133716Z
LAST-MODIFIED:20171123T134147Z
UID:6677-1511605800-1511625600@www.pect.org.uk
SUMMARY:Volunteer Tree Planting Day
DESCRIPTION:Want to make a difference to your local environment? Want to volunteer with a project that is creating a long-lasting impact for the area and its residents? Don’t miss joining in special Forest for Peterborough tree planting days this season! \nVolunteers can drop-in to tree planting events to help PECT plant over 180\,000 trees in and around the city and surrounding countryside by 2030. The target is to plant one tree for every person in the city in order to improve tree coverage\, improve our green spaces\, and the quality of air we breathe. \nAdjacent to 6 Lincoln Road\, Peterborough PE6 7LW\nTo get there follow these directions – Head south to Werrington from the Glinton roundabout along the A15\, halfway you will see a left turn on the dual carriageway and a sign for the Old Lincoln Road with access to Hurn road. Take the turning then turn left\, the field is on the right.
URL:https://www.pect.org.uk/event/volunteer-tree-planting-day/
CATEGORIES:Tree Planting
END:VEVENT
END:VCALENDAR