BEGIN:VCALENDAR
VERSION:2.0
PRODID:-//PECT - ECPv5.3.2//NONSGML v1.0//EN
CALSCALE:GREGORIAN
METHOD:PUBLISH
X-WR-CALNAME:PECT
X-ORIGINAL-URL:https://www.pect.org.uk
X-WR-CALDESC:Events for PECT
BEGIN:VTIMEZONE
TZID:UTC
BEGIN:STANDARD
TZOFFSETFROM:+0000
TZOFFSETTO:+0000
TZNAME:UTC
DTSTART:20170101T000000
END:STANDARD
END:VTIMEZONE
BEGIN:VEVENT
DTSTART;TZID=UTC:20171201T100000
DTEND;TZID=UTC:20171201T150000
DTSTAMP:20260425T001949
CREATED:20171123T133153Z
LAST-MODIFIED:20171123T133153Z
UID:6665-1512122400-1512140400@www.pect.org.uk
SUMMARY:Volunteer Day at Castor Hanglands
DESCRIPTION:Join Froglife at Castor Hanglands to help survey the nature reserve’s ponds and manage the habitat around the area.
URL:https://www.pect.org.uk/event/volunteer-day-at-castor-hanglands/
CATEGORIES:Conservation,Family
END:VEVENT
END:VCALENDAR