BEGIN:VCALENDAR
VERSION:2.0
PRODID:-//PECT - ECPv5.3.2//NONSGML v1.0//EN
CALSCALE:GREGORIAN
METHOD:PUBLISH
X-WR-CALNAME:PECT
X-ORIGINAL-URL:https://www.pect.org.uk
X-WR-CALDESC:Events for PECT
BEGIN:VTIMEZONE
TZID:UTC
BEGIN:STANDARD
TZOFFSETFROM:+0000
TZOFFSETTO:+0000
TZNAME:UTC
DTSTART:20170101T000000
END:STANDARD
END:VTIMEZONE
BEGIN:VEVENT
DTSTART;TZID=UTC:20171212T100000
DTEND;TZID=UTC:20171212T110000
DTSTAMP:20260424T060106
CREATED:20171206T153548Z
LAST-MODIFIED:20171208T093119Z
UID:6724-1513072800-1513076400@www.pect.org.uk
SUMMARY:Bitesize Lincs: Introduction to Energy Efficiency
DESCRIPTION:Energy efficient technology and environmental management systems are two sides of the same coin. Why installing only energy efficient technology is half a solution to the overall problem.\nEnergy efficient technology and environmental management systems are two sides of the same coin. Join this webinar to discover why installing only energy efficient technology is half a solution to the overall problem. \nTo improve resource efficiency and save money quickly\, organisations will often opt for the installation of more efficient equipment. For example\, upgrading from fluorescent to  LED lighting. While installing more efficient equipment does present energy and financial savings\, it only solves half of the problem. Without understanding how your organisation is using its resources through energy / environmental management\, you are missing out on additional reductions and savings that could be realised without any extra investment.  \nIn this webinar we will discuss the relationship that an Environmental Management System (EMS) and the installation of energy efficient technology have with each other\, and why carrying out one without the other is only half a solution.  \nWith Martin Slocombe\, and Claire Lea.  \nMartin is a director of Gates Green Solutions\, established in 2010 and provides free energy saving advice and site surveys for all sizes of businesses\, helping companies to engage with: Sustainable Development Goals\, improving energy efficiency\, renewable energy\, off-grid self-sufficiency\, emerging technologies that will reduce their running costs and future proof their business.  \nClaire established her consultancy business after 13 years of working in the environmental sector\, latterly at a senior leadership level. Her consultancy business is all about working in partnership with organisations\, to understand their needs and supporting them to implement sustainable and responsible business practices. Claire works with organisations to improve resource efficiency\, implement environmental management systems and to effectively manage environmental risks and opportunities in an ever-changing environment – both business and natural.  \nYour host is David Knight from Business Lincolnshire.
URL:https://www.pect.org.uk/event/bitesize-lincs-introduction-energy-efficiency/
CATEGORIES:Webinar
END:VEVENT
END:VCALENDAR