BEGIN:VCALENDAR
VERSION:2.0
PRODID:-//PECT - ECPv5.3.2//NONSGML v1.0//EN
CALSCALE:GREGORIAN
METHOD:PUBLISH
X-WR-CALNAME:PECT
X-ORIGINAL-URL:https://www.pect.org.uk
X-WR-CALDESC:Events for PECT
BEGIN:VTIMEZONE
TZID:UTC
BEGIN:STANDARD
TZOFFSETFROM:+0000
TZOFFSETTO:+0000
TZNAME:UTC
DTSTART:20180101T000000
END:STANDARD
END:VTIMEZONE
BEGIN:VEVENT
DTSTART;TZID=UTC:20180113T103000
DTEND;TZID=UTC:20180113T160000
DTSTAMP:20260421T214908
CREATED:20171207T110935Z
LAST-MODIFIED:20180112T092737Z
UID:6733-1515839400-1515859200@www.pect.org.uk
SUMMARY:Tree Planting Day
DESCRIPTION:Want to make a difference to your local environment? Want to volunteer with a project that is creating a long-lasting impact for the area and its residents? Don’t miss joining in special Forest for Peterborough tree planting days this season! \nVolunteers can drop-in to tree planting events to help PECT plant over 180\,000 trees in and around the city and surrounding countryside by 2030. The target is to plant one tree for every person in the city in order to improve tree coverage\, improve our green spaces\, and the quality of air we breathe. \nCalling is advised on the day\, because events may be cancelled due to poor weather conditions or finish early due to all trees being planted. Please wear appropriate clothing  for outdoor work and sturdy footwear. All equipment will be supplied and no prior skills are required. All ages welcome.
URL:https://www.pect.org.uk/event/tree-planting-day-5/
CATEGORIES:Tree Planting
END:VEVENT
END:VCALENDAR